BEGIN:VCALENDAR
VERSION:2.0
PRODID:-//Golden Thread Livestock Images - ECPv5.9.0//NONSGML v1.0//EN
CALSCALE:GREGORIAN
METHOD:PUBLISH
X-WR-CALNAME:Golden Thread Livestock Images
X-ORIGINAL-URL:https://goldenthread.ca
X-WR-CALDESC:Events for Golden Thread Livestock Images
BEGIN:VTIMEZONE
TZID:UTC
BEGIN:STANDARD
TZOFFSETFROM:+0000
TZOFFSETTO:+0000
TZNAME:UTC
DTSTART:20230101T000000
END:STANDARD
END:VTIMEZONE
BEGIN:VEVENT
DTSTART;TZID=UTC:20230317T130000
DTEND;TZID=UTC:20230317T233000
DTSTAMP:20260423T122526
CREATED:20230110T211430Z
LAST-MODIFIED:20230303T201812Z
UID:4163-1679058000-1679095800@goldenthread.ca
SUMMARY:Yarrow Creek 17th Annual Bull Sale with Guest Consignor Gurney Land & Livestock
DESCRIPTION:
URL:https://goldenthread.ca/event/yarrow-creek-17th-annual-bull-sale-with-guest-consignor-gurney-land-livestock/
LOCATION:Perlich Bros. Auction\, 90055 RR 210\, Lethbridge\, Alberta\, T1K 4P4\, Canada
ATTACH;FMTTYPE=image/jpeg:https://goldenthread.ca/wp-content/uploads/2023/01/230317YarrowCreekCatCov.jpg
END:VEVENT
END:VCALENDAR